View In:
ArcGIS JavaScript
ArcGIS.com Map
Google Earth
ArcMap
View Footprint In:
ArcGIS.com Map
Service Description:
Name: NHA_RASTER_WSITHAI
Description: NHA_RASTER_WSITHAI
Single Fused Map Cache: false
Extent:
XMin: -439133.8077433074
YMin: 474699.9653085417
XMax: 1997279.3831735475
YMax: 2455407.007114291
Spatial Reference:
32647
(32647)
Initial Extent:
XMin: -439133.8077433074
YMin: 474699.9653085417
XMax: 1997279.3831735475
YMax: 2455407.007114291
Spatial Reference:
32647
(32647)
Full Extent:
XMin: -439133.8077433074
YMin: 474699.9653085417
XMax: 1997279.3831735475
YMax: 2455407.007114291
Spatial Reference:
32647
(32647)
Pixel Size X: 1121.7371965547213
Pixel Size Y: 3993.3609713825595
Band Count: 3
Pixel Type: U8
RasterFunction Infos: N/A
Mensuration Capabilities: Basic
Has Histograms: true
Has Colormap: false
Min Scale: 0
Max Scale: 0
Copyright Text:
Service Data Type: esriImageServiceDataTypeRGB
Min Values: 0, 0, 0
Max Values: 249, 240, 234
Mean Values: 36.992921270718234, 92.60681678102537, 116.17251548297986
Standard Deviation Values: 32.740676828570436, 33.63889117210761, 45.42292197278294
Object ID Field:
Fields:
None
Raster Attribute Table: false
Default Mosaic Method: Center
Allowed Mosaic Methods:
SortField:
SortValue: null
Mosaic Operator: First
Default Compression Quality: 75
Default Resampling Method: Bilinear
Max Record Count: null
Max Image Height: 4100
Max Image Width: 15000
Max Download Image Count: null
Max Mosaic Image Count: null
Allow Raster Function: true
Raster Type Infos:
Name: Raster Dataset
Description: Supports all ArcGIS Raster Datasets
Help:
Has Raster Attribute Table: false
Edit Fields Info: null
Ownership Based AccessControl For Rasters: null
Child Resources:
Info
Histograms
Key Properties
Supported Operations:
Export Image
Identify
Measure
Compute Histograms