{
 "currentVersion": 10.11,
 "serviceDescription": "",
 "name": "NHA_RASTER_WSITHAI",
 "description": "NHA_RASTER_WSITHAI",
 "extent": {
  "xmin": -439133.8077433074,
  "ymin": 474699.9653085417,
  "xmax": 1997279.3831735475,
  "ymax": 2455407.007114291,
  "spatialReference": {
   "wkid": 32647,
   "latestWkid": 32647
  }
 },
 "initialExtent": {
  "xmin": -439133.8077433074,
  "ymin": 474699.9653085417,
  "xmax": 1997279.3831735475,
  "ymax": 2455407.007114291,
  "spatialReference": {
   "wkid": 32647,
   "latestWkid": 32647
  }
 },
 "fullExtent": {
  "xmin": -439133.8077433074,
  "ymin": 474699.9653085417,
  "xmax": 1997279.3831735475,
  "ymax": 2455407.007114291,
  "spatialReference": {
   "wkid": 32647,
   "latestWkid": 32647
  }
 },
 "pixelSizeX": 1121.7371965547213,
 "pixelSizeY": 3993.3609713825595,
 "bandCount": 3,
 "pixelType": "U8",
 "minPixelSize": 0,
 "maxPixelSize": 0,
 "copyrightText": "",
 "serviceDataType": "esriImageServiceDataTypeRGB",
 "minValues": [
  0,
  0,
  0
 ],
 "maxValues": [
  249,
  240,
  234
 ],
 "meanValues": [
  36.992921270718234,
  92.60681678102537,
  116.17251548297986
 ],
 "stdvValues": [
  32.740676828570436,
  33.63889117210761,
  45.42292197278294
 ],
 "objectIdField": "",
 "fields": [],
 "capabilities": "Image,Metadata,Mensuration",
 "defaultMosaicMethod": "Center",
 "allowedMosaicMethods": "",
 "sortField": "",
 "sortValue": null,
 "mosaicOperator": "First",
 "defaultCompressionQuality": 75,
 "defaultResamplingMethod": "Bilinear",
 "maxImageHeight": 4100,
 "maxImageWidth": 15000,
 "allowRasterFunction": true,
 "rasterFunctionInfos": [],
 "rasterTypeInfos": [
  {
   "name": "Raster Dataset",
   "description": "Supports all ArcGIS Raster Datasets",
   "help": ""
  }
 ],
 "mensurationCapabilities": "Basic",
 "hasHistograms": true,
 "hasColormap": false,
 "hasRasterAttributeTable": false,
 "minScale": 0,
 "maxScale": 0,
 "editFieldsInfo": null,
 "ownershipBasedAccessControlForRasters": null,
 "spatialReference": {
  "wkid": 32647,
  "latestWkid": 32647
 }
}
